BEGIN:VCALENDAR
VERSION:2.0
PRODID:-//Engineering Alumni &amp; Friends - ECPv6.15.0.1//NONSGML v1.0//EN
CALSCALE:GREGORIAN
METHOD:PUBLISH
X-ORIGINAL-URL:https://alumni.engineering.utoronto.ca
X-WR-CALDESC:Events for Engineering Alumni &amp; Friends
REFRESH-INTERVAL;VALUE=DURATION:PT1H
X-Robots-Tag:noindex
X-PUBLISHED-TTL:PT1H
BEGIN:VTIMEZONE
TZID:America/Denver
BEGIN:DAYLIGHT
TZOFFSETFROM:-0700
TZOFFSETTO:-0600
TZNAME:MDT
DTSTART:20250309T090000
END:DAYLIGHT
BEGIN:STANDARD
TZOFFSETFROM:-0600
TZOFFSETTO:-0700
TZNAME:MST
DTSTART:20251102T080000
END:STANDARD
END:VTIMEZONE
BEGIN:VTIMEZONE
TZID:Asia/Shanghai
BEGIN:STANDARD
TZOFFSETFROM:+0800
TZOFFSETTO:+0800
TZNAME:CST
DTSTART:20250101T000000
END:STANDARD
END:VTIMEZONE
BEGIN:VEVENT
DTSTART;TZID=America/Denver:20250607T103000
DTEND;TZID=America/Denver:20250607T123000
DTSTAMP:20260421T020139
CREATED:20250528T173333Z
LAST-MODIFIED:20250528T173501Z
UID:31403-1749292200-1749299400@alumni.engineering.utoronto.ca
SUMMARY:San Francisco: Monthly Alumni Hike
DESCRIPTION:Register now!\n					\n\n	\n\n\n\n	\n\n\n			\n	\n	\n		\n	\n				\n					\n	\n	\n\n\n\n	\n\n\n			\n	\n	\n		\n	Join fellow U of T Alumni and friends for an exclusive tour at one of Canada's premier birding destinations\nHosted by the Faculty of Applied Science & Engineering\, Faculty of Arts & Science\, Temerty Faculty of Medicine\, and U of T Mississauga. \nJoin fellow U of T alumni and friends at Point Pelee National Park during peak bird migration season. Led by experienced guides carefully selected by the Friends of Point Pelee\, these tours offer expert insight in to the park's unique ecosystems and the remarkable diversity of songbirds passing through. With most Friends of Point Pelee tours already sold out\, U of T Alumni is pleased to offer graduates access to this in-demand experience. The hike difficulty is rated at an easy level but not recommended for mobility devices. \nU of T representative\, Teo Salgado (HBA 1997 UTM)\, will be there to welcome you. \nRegister now to secure your spot. We look forward to seeing you there! \nTwo-Hour Birding Hike at 8:30 AM\nThe morning hike begins at the Visitor Centre and highlights migrating songbirds as they arrive at The Tip and continue their journey north through the park. Please arrive early to allow time for parking. Meet-up details will be shared with registrants closer to the date. \nTwo-Hour Birding Hike at 1:30 PM\nThe afternoon hike starts from the Northwest Beach parking lot\, offering a chance to catch up with migrating songbirds as they move through later in the day. Plan to spend the morning at Point Pelee to secure parking. Meet-up details will be shared with registrants closer to the date. \nHave questions about this event?\nPlease contact UTM Alumni Relations if you have questions\, require information in an alternate format or if any other arrangements can make this event accessible to you. \nEvent Details:\nDate: Monday\, May 11\, 2026\nTime: 8:30AM and 1:30 PM EDT\nLocation: Point Pelee National Park\, 1118 Point Pelee Dr\, Leamington\, ON N8H 3V4 (Map)\nCost: $20 (Does not include park entry fee)\nEvent Start: 5:00 PM (Countdown to Glow begins at 6:30 PM; Projections turn on at 7:00 PM) \nRegister now!  \n\n	\n\n\n\n			\n	\n	\n		\n	Discover your Global Alumni Ambassadors (GAA) around the world—visit our GAA site for more details!
URL:https://alumni.engineering.utoronto.ca/event/sanfran-milagra-hike/
LOCATION:Milagra Overlook Trail\, Pacifica\, CA\, 94044\, United States
END:VEVENT
BEGIN:VEVENT
DTSTART;TZID=Asia/Shanghai:20250607T130000
DTEND;TZID=Asia/Shanghai:20250607T150000
DTSTAMP:20260421T020140
CREATED:20250515T161004Z
LAST-MODIFIED:20250528T174012Z
UID:31389-1749301200-1749308400@alumni.engineering.utoronto.ca
SUMMARY:Hong Kong: Alumni Bowling
DESCRIPTION:Register now!\n					\n\n	\n\n\n\n	\n\n\n			\n	\n	\n		\n	\n				\n					\n	\n	\n\n\n\n	\n\n\n			\n	\n	\n		\n	Join fellow U of T Alumni and friends for an exclusive tour at one of Canada's premier birding destinations\nHosted by the Faculty of Applied Science & Engineering\, Faculty of Arts & Science\, Temerty Faculty of Medicine\, and U of T Mississauga. \nJoin fellow U of T alumni and friends at Point Pelee National Park during peak bird migration season. Led by experienced guides carefully selected by the Friends of Point Pelee\, these tours offer expert insight in to the park's unique ecosystems and the remarkable diversity of songbirds passing through. With most Friends of Point Pelee tours already sold out\, U of T Alumni is pleased to offer graduates access to this in-demand experience. The hike difficulty is rated at an easy level but not recommended for mobility devices. \nU of T representative\, Teo Salgado (HBA 1997 UTM)\, will be there to welcome you. \nRegister now to secure your spot. We look forward to seeing you there! \nTwo-Hour Birding Hike at 8:30 AM\nThe morning hike begins at the Visitor Centre and highlights migrating songbirds as they arrive at The Tip and continue their journey north through the park. Please arrive early to allow time for parking. Meet-up details will be shared with registrants closer to the date. \nTwo-Hour Birding Hike at 1:30 PM\nThe afternoon hike starts from the Northwest Beach parking lot\, offering a chance to catch up with migrating songbirds as they move through later in the day. Plan to spend the morning at Point Pelee to secure parking. Meet-up details will be shared with registrants closer to the date. \nHave questions about this event?\nPlease contact UTM Alumni Relations if you have questions\, require information in an alternate format or if any other arrangements can make this event accessible to you. \nEvent Details:\nDate: Monday\, May 11\, 2026\nTime: 8:30AM and 1:30 PM EDT\nLocation: Point Pelee National Park\, 1118 Point Pelee Dr\, Leamington\, ON N8H 3V4 (Map)\nCost: $20 (Does not include park entry fee)\nEvent Start: 5:00 PM (Countdown to Glow begins at 6:30 PM; Projections turn on at 7:00 PM) \nRegister now!  \n\n	\n\n\n\n			\n	\n	\n		\n	Discover your Global Alumni Ambassadors (GAA) around the world—visit our GAA site for more details!
URL:https://alumni.engineering.utoronto.ca/event/hong-kong-alumni-bowling/
LOCATION:Top Bowl Tenpin Bowling\, Kai Tak Mall\, Hong Kong\, Hong Kong
END:VEVENT
END:VCALENDAR