BEGIN:VCALENDAR
VERSION:2.0
PRODID:-//Engineering Alumni &amp; Friends - ECPv6.15.0.1//NONSGML v1.0//EN
CALSCALE:GREGORIAN
METHOD:PUBLISH
X-ORIGINAL-URL:https://alumni.engineering.utoronto.ca
X-WR-CALDESC:Events for Engineering Alumni &amp; Friends
REFRESH-INTERVAL;VALUE=DURATION:PT1H
X-Robots-Tag:noindex
X-PUBLISHED-TTL:PT1H
BEGIN:VTIMEZONE
TZID:America/Denver
BEGIN:DAYLIGHT
TZOFFSETFROM:-0700
TZOFFSETTO:-0600
TZNAME:MDT
DTSTART:20250309T090000
END:DAYLIGHT
BEGIN:STANDARD
TZOFFSETFROM:-0600
TZOFFSETTO:-0700
TZNAME:MST
DTSTART:20251102T080000
END:STANDARD
END:VTIMEZONE
BEGIN:VTIMEZONE
TZID:America/Toronto
BEGIN:DAYLIGHT
TZOFFSETFROM:-0500
TZOFFSETTO:-0400
TZNAME:EDT
DTSTART:20250309T070000
END:DAYLIGHT
BEGIN:STANDARD
TZOFFSETFROM:-0400
TZOFFSETTO:-0500
TZNAME:EST
DTSTART:20251102T060000
END:STANDARD
END:VTIMEZONE
BEGIN:VTIMEZONE
TZID:Asia/Shanghai
BEGIN:STANDARD
TZOFFSETFROM:+0800
TZOFFSETTO:+0800
TZNAME:CST
DTSTART:20250101T000000
END:STANDARD
END:VTIMEZONE
BEGIN:VEVENT
DTSTART;TZID=America/Denver:20251201T113000
DTEND;TZID=America/Denver:20251201T133000
DTSTAMP:20260421T204953
CREATED:20251120T221901Z
LAST-MODIFIED:20251120T221901Z
UID:43841-1764588600-1764595800@alumni.engineering.utoronto.ca
SUMMARY:Calgary: Coffee social
DESCRIPTION:Register now!\n					\n\n	\n\n\n\n	\n\n\n			\n	\n	\n		\n	\n				\n					\n	\n	\n\n\n\n	\n\n\n			\n	\n	\n		\n	Join fellow U of T Alumni and friends for an exclusive tour at one of Canada's premier birding destinations\nHosted by the Faculty of Applied Science & Engineering\, Faculty of Arts & Science\, Temerty Faculty of Medicine\, and U of T Mississauga. \nJoin fellow U of T alumni and friends at Point Pelee National Park during peak bird migration season. Led by experienced guides carefully selected by the Friends of Point Pelee\, these tours offer expert insight in to the park's unique ecosystems and the remarkable diversity of songbirds passing through. With most Friends of Point Pelee tours already sold out\, U of T Alumni is pleased to offer graduates access to this in-demand experience. The hike difficulty is rated at an easy level but not recommended for mobility devices. \nU of T representative\, Teo Salgado (HBA 1997 UTM)\, will be there to welcome you. \nRegister now to secure your spot. We look forward to seeing you there! \nTwo-Hour Birding Hike at 8:30 AM\nThe morning hike begins at the Visitor Centre and highlights migrating songbirds as they arrive at The Tip and continue their journey north through the park. Please arrive early to allow time for parking. Meet-up details will be shared with registrants closer to the date. \nTwo-Hour Birding Hike at 1:30 PM\nThe afternoon hike starts from the Northwest Beach parking lot\, offering a chance to catch up with migrating songbirds as they move through later in the day. Plan to spend the morning at Point Pelee to secure parking. Meet-up details will be shared with registrants closer to the date. \nHave questions about this event?\nPlease contact UTM Alumni Relations if you have questions\, require information in an alternate format or if any other arrangements can make this event accessible to you. \nEvent Details:\nDate: Monday\, May 11\, 2026\nTime: 8:30AM and 1:30 PM EDT\nLocation: Point Pelee National Park\, 1118 Point Pelee Dr\, Leamington\, ON N8H 3V4 (Map)\nCost: $20 (Does not include park entry fee)\nEvent Start: 5:00 PM (Countdown to Glow begins at 6:30 PM; Projections turn on at 7:00 PM) \nRegister now!  \n\n	\n\n\n\n			\n	\n	\n		\n	Discover your Global Alumni Ambassadors (GAA) around the world—visit our GAA site for more details!
URL:https://alumni.engineering.utoronto.ca/event/calgary-coffee-social/
LOCATION:Alforno Coffee Livingston
END:VEVENT
BEGIN:VEVENT
DTSTART;TZID=America/Toronto:20251203T120000
DTEND;TZID=America/Toronto:20251203T130000
DTSTAMP:20260421T204954
CREATED:20251027T124710Z
LAST-MODIFIED:20251027T181531Z
UID:43740-1764763200-1764766800@alumni.engineering.utoronto.ca
SUMMARY:Lunch & Learn - The innovation imperative: AI\, healthcare and the Canadian landscape
DESCRIPTION:Register now!\n					\n\n	\n\n\n\n	\n\n\n			\n	\n	\n		\n	\n				\n					\n	\n	\n\n\n\n	\n\n\n			\n	\n	\n		\n	Join fellow U of T Alumni and friends for an exclusive tour at one of Canada's premier birding destinations\nHosted by the Faculty of Applied Science & Engineering\, Faculty of Arts & Science\, Temerty Faculty of Medicine\, and U of T Mississauga. \nJoin fellow U of T alumni and friends at Point Pelee National Park during peak bird migration season. Led by experienced guides carefully selected by the Friends of Point Pelee\, these tours offer expert insight in to the park's unique ecosystems and the remarkable diversity of songbirds passing through. With most Friends of Point Pelee tours already sold out\, U of T Alumni is pleased to offer graduates access to this in-demand experience. The hike difficulty is rated at an easy level but not recommended for mobility devices. \nU of T representative\, Teo Salgado (HBA 1997 UTM)\, will be there to welcome you. \nRegister now to secure your spot. We look forward to seeing you there! \nTwo-Hour Birding Hike at 8:30 AM\nThe morning hike begins at the Visitor Centre and highlights migrating songbirds as they arrive at The Tip and continue their journey north through the park. Please arrive early to allow time for parking. Meet-up details will be shared with registrants closer to the date. \nTwo-Hour Birding Hike at 1:30 PM\nThe afternoon hike starts from the Northwest Beach parking lot\, offering a chance to catch up with migrating songbirds as they move through later in the day. Plan to spend the morning at Point Pelee to secure parking. Meet-up details will be shared with registrants closer to the date. \nHave questions about this event?\nPlease contact UTM Alumni Relations if you have questions\, require information in an alternate format or if any other arrangements can make this event accessible to you. \nEvent Details:\nDate: Monday\, May 11\, 2026\nTime: 8:30AM and 1:30 PM EDT\nLocation: Point Pelee National Park\, 1118 Point Pelee Dr\, Leamington\, ON N8H 3V4 (Map)\nCost: $20 (Does not include park entry fee)\nEvent Start: 5:00 PM (Countdown to Glow begins at 6:30 PM; Projections turn on at 7:00 PM) \nRegister now!  \n\n	\n\n\n\n			\n	\n	\n		\n	Discover your Global Alumni Ambassadors (GAA) around the world—visit our GAA site for more details!
URL:https://alumni.engineering.utoronto.ca/event/ll-sebastiangoodfellow/
LOCATION:ONLINE
CATEGORIES:Skule Lunch & Learn
END:VEVENT
BEGIN:VEVENT
DTSTART;TZID=America/Denver:20251203T190000
DTEND;TZID=America/Denver:20251203T210000
DTSTAMP:20260421T204954
CREATED:20251020T234636Z
LAST-MODIFIED:20251020T234724Z
UID:43720-1764788400-1764795600@alumni.engineering.utoronto.ca
SUMMARY:Palo Alto - Taking on Pollution: The air we breathe\, the water we drink.
DESCRIPTION:Register now!\n					\n\n	\n\n\n\n	\n\n\n			\n	\n	\n		\n	\n				\n					\n	\n	\n\n\n\n	\n\n\n			\n	\n	\n		\n	Join fellow U of T Alumni and friends for an exclusive tour at one of Canada's premier birding destinations\nHosted by the Faculty of Applied Science & Engineering\, Faculty of Arts & Science\, Temerty Faculty of Medicine\, and U of T Mississauga. \nJoin fellow U of T alumni and friends at Point Pelee National Park during peak bird migration season. Led by experienced guides carefully selected by the Friends of Point Pelee\, these tours offer expert insight in to the park's unique ecosystems and the remarkable diversity of songbirds passing through. With most Friends of Point Pelee tours already sold out\, U of T Alumni is pleased to offer graduates access to this in-demand experience. The hike difficulty is rated at an easy level but not recommended for mobility devices. \nU of T representative\, Teo Salgado (HBA 1997 UTM)\, will be there to welcome you. \nRegister now to secure your spot. We look forward to seeing you there! \nTwo-Hour Birding Hike at 8:30 AM\nThe morning hike begins at the Visitor Centre and highlights migrating songbirds as they arrive at The Tip and continue their journey north through the park. Please arrive early to allow time for parking. Meet-up details will be shared with registrants closer to the date. \nTwo-Hour Birding Hike at 1:30 PM\nThe afternoon hike starts from the Northwest Beach parking lot\, offering a chance to catch up with migrating songbirds as they move through later in the day. Plan to spend the morning at Point Pelee to secure parking. Meet-up details will be shared with registrants closer to the date. \nHave questions about this event?\nPlease contact UTM Alumni Relations if you have questions\, require information in an alternate format or if any other arrangements can make this event accessible to you. \nEvent Details:\nDate: Monday\, May 11\, 2026\nTime: 8:30AM and 1:30 PM EDT\nLocation: Point Pelee National Park\, 1118 Point Pelee Dr\, Leamington\, ON N8H 3V4 (Map)\nCost: $20 (Does not include park entry fee)\nEvent Start: 5:00 PM (Countdown to Glow begins at 6:30 PM; Projections turn on at 7:00 PM) \nRegister now!  \n\n	\n\n\n\n			\n	\n	\n		\n	Discover your Global Alumni Ambassadors (GAA) around the world—visit our GAA site for more details!
URL:https://alumni.engineering.utoronto.ca/event/palo-alto-2025/
LOCATION:el PRADO Hotel\, 520 Cowper Street\, Palo Alto\, CA\, 94301\, United States
END:VEVENT
BEGIN:VEVENT
DTSTART;TZID=America/Toronto:20251205T170000
DTEND;TZID=America/Toronto:20251205T210000
DTSTAMP:20260421T204954
CREATED:20251022T123156Z
LAST-MODIFIED:20251204T140230Z
UID:43728-1764954000-1764968400@alumni.engineering.utoronto.ca
SUMMARY:Sharks After Dark: Alumni night at Ripley's
DESCRIPTION:Register now!\n					\n\n	\n\n\n\n	\n\n\n			\n	\n	\n		\n	\n				\n					\n	\n	\n\n\n\n	\n\n\n			\n	\n	\n		\n	Join fellow U of T Alumni and friends for an exclusive tour at one of Canada's premier birding destinations\nHosted by the Faculty of Applied Science & Engineering\, Faculty of Arts & Science\, Temerty Faculty of Medicine\, and U of T Mississauga. \nJoin fellow U of T alumni and friends at Point Pelee National Park during peak bird migration season. Led by experienced guides carefully selected by the Friends of Point Pelee\, these tours offer expert insight in to the park's unique ecosystems and the remarkable diversity of songbirds passing through. With most Friends of Point Pelee tours already sold out\, U of T Alumni is pleased to offer graduates access to this in-demand experience. The hike difficulty is rated at an easy level but not recommended for mobility devices. \nU of T representative\, Teo Salgado (HBA 1997 UTM)\, will be there to welcome you. \nRegister now to secure your spot. We look forward to seeing you there! \nTwo-Hour Birding Hike at 8:30 AM\nThe morning hike begins at the Visitor Centre and highlights migrating songbirds as they arrive at The Tip and continue their journey north through the park. Please arrive early to allow time for parking. Meet-up details will be shared with registrants closer to the date. \nTwo-Hour Birding Hike at 1:30 PM\nThe afternoon hike starts from the Northwest Beach parking lot\, offering a chance to catch up with migrating songbirds as they move through later in the day. Plan to spend the morning at Point Pelee to secure parking. Meet-up details will be shared with registrants closer to the date. \nHave questions about this event?\nPlease contact UTM Alumni Relations if you have questions\, require information in an alternate format or if any other arrangements can make this event accessible to you. \nEvent Details:\nDate: Monday\, May 11\, 2026\nTime: 8:30AM and 1:30 PM EDT\nLocation: Point Pelee National Park\, 1118 Point Pelee Dr\, Leamington\, ON N8H 3V4 (Map)\nCost: $20 (Does not include park entry fee)\nEvent Start: 5:00 PM (Countdown to Glow begins at 6:30 PM; Projections turn on at 7:00 PM) \nRegister now!  \n\n	\n\n\n\n			\n	\n	\n		\n	Discover your Global Alumni Ambassadors (GAA) around the world—visit our GAA site for more details!
URL:https://alumni.engineering.utoronto.ca/event/sharks-after-dark/
LOCATION:Ripley’s Aquarium of Canada\, 288 Bremner Blvd\, Toronto\, Ontario\, M5V 3L9\, Canada
END:VEVENT
BEGIN:VEVENT
DTSTART;TZID=Asia/Shanghai:20251206T190000
DTEND;TZID=Asia/Shanghai:20251206T220000
DTSTAMP:20260421T204954
CREATED:20251127T151157Z
LAST-MODIFIED:20251127T152538Z
UID:44001-1765047600-1765058400@alumni.engineering.utoronto.ca
SUMMARY:Shanghai: Alumni Christmas social
DESCRIPTION:Register now!\n					\n\n	\n\n\n\n	\n\n\n			\n	\n	\n		\n	\n				\n					\n	\n	\n\n\n\n	\n\n\n			\n	\n	\n		\n	Join fellow U of T Alumni and friends for an exclusive tour at one of Canada's premier birding destinations\nHosted by the Faculty of Applied Science & Engineering\, Faculty of Arts & Science\, Temerty Faculty of Medicine\, and U of T Mississauga. \nJoin fellow U of T alumni and friends at Point Pelee National Park during peak bird migration season. Led by experienced guides carefully selected by the Friends of Point Pelee\, these tours offer expert insight in to the park's unique ecosystems and the remarkable diversity of songbirds passing through. With most Friends of Point Pelee tours already sold out\, U of T Alumni is pleased to offer graduates access to this in-demand experience. The hike difficulty is rated at an easy level but not recommended for mobility devices. \nU of T representative\, Teo Salgado (HBA 1997 UTM)\, will be there to welcome you. \nRegister now to secure your spot. We look forward to seeing you there! \nTwo-Hour Birding Hike at 8:30 AM\nThe morning hike begins at the Visitor Centre and highlights migrating songbirds as they arrive at The Tip and continue their journey north through the park. Please arrive early to allow time for parking. Meet-up details will be shared with registrants closer to the date. \nTwo-Hour Birding Hike at 1:30 PM\nThe afternoon hike starts from the Northwest Beach parking lot\, offering a chance to catch up with migrating songbirds as they move through later in the day. Plan to spend the morning at Point Pelee to secure parking. Meet-up details will be shared with registrants closer to the date. \nHave questions about this event?\nPlease contact UTM Alumni Relations if you have questions\, require information in an alternate format or if any other arrangements can make this event accessible to you. \nEvent Details:\nDate: Monday\, May 11\, 2026\nTime: 8:30AM and 1:30 PM EDT\nLocation: Point Pelee National Park\, 1118 Point Pelee Dr\, Leamington\, ON N8H 3V4 (Map)\nCost: $20 (Does not include park entry fee)\nEvent Start: 5:00 PM (Countdown to Glow begins at 6:30 PM; Projections turn on at 7:00 PM) \nRegister now!  \n\n	\n\n\n\n			\n	\n	\n		\n	Discover your Global Alumni Ambassadors (GAA) around the world—visit our GAA site for more details!
URL:https://alumni.engineering.utoronto.ca/event/shanghai-christmas-social/
LOCATION:Fotografiska Shanghai
END:VEVENT
BEGIN:VEVENT
DTSTART;TZID=America/Toronto:20251209T180000
DTEND;TZID=America/Toronto:20251209T200000
DTSTAMP:20260421T204954
CREATED:20251120T221134Z
LAST-MODIFIED:20251120T221210Z
UID:43833-1765303200-1765310400@alumni.engineering.utoronto.ca
SUMMARY:Boston: Snowport Holiday Market Social
DESCRIPTION:Register now!\n					\n\n	\n\n\n\n	\n\n\n			\n	\n	\n		\n	\n				\n					\n	\n	\n\n\n\n	\n\n\n			\n	\n	\n		\n	Join fellow U of T Alumni and friends for an exclusive tour at one of Canada's premier birding destinations\nHosted by the Faculty of Applied Science & Engineering\, Faculty of Arts & Science\, Temerty Faculty of Medicine\, and U of T Mississauga. \nJoin fellow U of T alumni and friends at Point Pelee National Park during peak bird migration season. Led by experienced guides carefully selected by the Friends of Point Pelee\, these tours offer expert insight in to the park's unique ecosystems and the remarkable diversity of songbirds passing through. With most Friends of Point Pelee tours already sold out\, U of T Alumni is pleased to offer graduates access to this in-demand experience. The hike difficulty is rated at an easy level but not recommended for mobility devices. \nU of T representative\, Teo Salgado (HBA 1997 UTM)\, will be there to welcome you. \nRegister now to secure your spot. We look forward to seeing you there! \nTwo-Hour Birding Hike at 8:30 AM\nThe morning hike begins at the Visitor Centre and highlights migrating songbirds as they arrive at The Tip and continue their journey north through the park. Please arrive early to allow time for parking. Meet-up details will be shared with registrants closer to the date. \nTwo-Hour Birding Hike at 1:30 PM\nThe afternoon hike starts from the Northwest Beach parking lot\, offering a chance to catch up with migrating songbirds as they move through later in the day. Plan to spend the morning at Point Pelee to secure parking. Meet-up details will be shared with registrants closer to the date. \nHave questions about this event?\nPlease contact UTM Alumni Relations if you have questions\, require information in an alternate format or if any other arrangements can make this event accessible to you. \nEvent Details:\nDate: Monday\, May 11\, 2026\nTime: 8:30AM and 1:30 PM EDT\nLocation: Point Pelee National Park\, 1118 Point Pelee Dr\, Leamington\, ON N8H 3V4 (Map)\nCost: $20 (Does not include park entry fee)\nEvent Start: 5:00 PM (Countdown to Glow begins at 6:30 PM; Projections turn on at 7:00 PM) \nRegister now!  \n\n	\n\n\n\n			\n	\n	\n		\n	Discover your Global Alumni Ambassadors (GAA) around the world—visit our GAA site for more details!
URL:https://alumni.engineering.utoronto.ca/event/boston-holiday-market-social/
LOCATION:Snowport Holiday Market
END:VEVENT
END:VCALENDAR