BEGIN:VCALENDAR
VERSION:2.0
PRODID:-//Engineering Alumni &amp; Friends - ECPv6.15.0.1//NONSGML v1.0//EN
CALSCALE:GREGORIAN
METHOD:PUBLISH
X-WR-CALNAME:Engineering Alumni &amp; Friends
X-ORIGINAL-URL:https://alumni.engineering.utoronto.ca
X-WR-CALDESC:Events for Engineering Alumni &amp; Friends
REFRESH-INTERVAL;VALUE=DURATION:PT1H
X-Robots-Tag:noindex
X-PUBLISHED-TTL:PT1H
BEGIN:VTIMEZONE
TZID:America/Toronto
BEGIN:DAYLIGHT
TZOFFSETFROM:-0500
TZOFFSETTO:-0400
TZNAME:EDT
DTSTART:20250309T070000
END:DAYLIGHT
BEGIN:STANDARD
TZOFFSETFROM:-0400
TZOFFSETTO:-0500
TZNAME:EST
DTSTART:20251102T060000
END:STANDARD
END:VTIMEZONE
BEGIN:VEVENT
DTSTART;TZID=America/Toronto:20250227T183000
DTEND;TZID=America/Toronto:20250227T210000
DTSTAMP:20260421T032621
CREATED:20250130T144844Z
LAST-MODIFIED:20250205T133903Z
UID:31107-1740681000-1740690000@alumni.engineering.utoronto.ca
SUMMARY:U of T's National Society of Black Engineers (NSBE) alumni and student social
DESCRIPTION:Register now!\n					\n				\n	Join us at Freeplay for a fun-filled evening of board games\, retro arcade classics\, karaoke and food.  \nThis event offers Black students and alumni a unique opportunity to connect\, network and build community within the NSBE network at U of T.  \nWe hope to see you there!  
URL:https://alumni.engineering.utoronto.ca/event/nsbe-social/
LOCATION:Freeplay\, 300 College St\, Toronto\, Ontatio\, M5T 1R9\, Canada
END:VEVENT
END:VCALENDAR